Workbook
Name fx.RiskVersionλ: _xlfn.LAMBDA("0.9.0 (41 distributions incl. metalog, 5 copulas, time series, SARIMA, Holt-Winters, VAR and VECM, regression, diagnostics, bootstrap, portfolios, VaR, CVaR, ES and chart data)")

Sheet Read me
A1: XL Edge Example - Outliers and Leverage
A2: Example workbook for the guide "Outliers and leverage in XL Edge" (HTML and PDF, in the same folder).
A5: Sheets
A6: Data forty stores: floor area, staff and monthly sales (simulated)
A7: 1 Outliers fx.RiskOutliersλ on floor area and staff, the cut-offs, and a 95% prediction ellipse chart
A8: 2 Regression fx.RiskRegressResidsλ: residuals, leverage and Cook's distance, with an influence chart
A9: 3 With and without LINEST refitted without each unusual store
A11: The four planted stores
A12: S07 big and fully staffed (on the trend) S15 big but understaffed S23 typical, but sells far less S31 big, and sells far less
A14: About the functions in this workbook
A15: The 7 fx.Risk... functions this workbook uses are stored in it (Formulas > Name Manager),
A16: so it works in Excel for Microsoft 365 without any add-in. With XL Edge installed, the same
... A18: Library version: see the cell below. Change any input on the Data sheet and every result recalculates.
A19: {=fx.RiskVersionλ()} -> 0.9.0 (41 distributions incl. metalog, 5 copulas, time series, SARIMA, Holt-Winters, VAR and VECM, regression, diagnostics, bootstrap, portfolios, VaR, CVaR, ES and chart data)

Sheet Data
A1: Forty stores: floor area, staff and monthly sales (simulated, for illustration)
A2: Bigger stores have more staff and sell more. A few stores are unusual - the guide shows how to find them.
A4: Store | B4: Floor area | C4: Staff | D4: Sales
A5: S01 | B5: 12.1 | C5: 19 | D5: 601 | F5: Floor area: thousand sq ft. Staff: full-time equivalents. Sales: $ thousand a month.
A6: S02 | B6: 15.4 | C6: 23 | D6: 830
A7: S03 | B7: 15.1 | C7: 24 | D7: 752
A8: S04 | B8: 10.7 | C8: 14 | D8: 550
A9: S05 | B9: 11.3 | C9: 16 | D9: 612
A10: S06 | B10: 10.7 | C10: 15 | D10: 494
A11: S07 | B11: 22 | C11: 34 | D11: 1148
A12: S08 | B12: 11.9 | C12: 18 | D12: 575
A13: S09 | B13: 13.9 | C13: 22 | D13: 734
A14: S10 | B14: 7.4 | C14: 10 | D14: 417
A15: S11 | B15: 15.9 | C15: 26 | D15: 899
A16: S12 | B16: 11.8 | C16: 19 | D16: 566
A17: S13 | B17: 13.7 | C17: 22 | D17: 701
... A44: S40 | B44: 10 | C44: 15 | D44: 496

Sheet 1 Outliers
A1: 1. Which stores are unusual? Floor area and staff judged together - fx.RiskOutliersλ
A2: Distance: how far each store sits from the average store, in standard deviations, allowing for the fact that
A3: area and staff move together (Mahalanobis distance). Leverage: the same information on the regression scale.
A5: =_xlfn.FORMULATEXT(A6) -> =fx.RiskOutliersλ(Data!$B$5:$C$44)
A6: {=fx.RiskOutliersλ(Data!$B$5:$C$44)} -> Outliers and leverage | G6: Beside the block (ordinary formulas)
A7: Observation | B7: Distance | C7: Distance flag | D7: Leverage | E7: Leverage flag | G7: Store | H7: z, floor area | I7: z, staff | J7: Chi-square flag
A8: 1 | B8: 0.44932127 | D8: 0.030176657 | G8: {=Data!$A$5:$A$44} -> S01 | H8: {=STANDARDIZE(Data!$B$5:$B$44, AVERAGE(Data!$B$5:$B$44), _xlfn.STDEV.S(Data!$B$5:$B$44))} -> -0.053093667 | I8: {=STANDARDIZE(Data!$C$5:$C$44, AVERAGE(Data!$C$5:$C$44), _xlfn.STDEV.S(Data!$C$5:$C$44))} -> 0.11639465 | J8: {=IF(B8:B47^2 > _xlfn.CHISQ.INV(0.975, 2), "High", "")}
A9: 2 | B9: 1.047897 | D9: 0.053156105 | G9: S02 | H9: 1.0419632 | I9: 0.92609653
A10: 3 | B10: 1.1636696 | D10: 0.059721201 | G10: S03 | H10: 0.94241259 | I10: 1.128522
A11: 4 | B11: 1.231802 | D11: 0.063906054 | G11: S04 | H11: -0.51766325 | I11: -0.89573271
A12: 5 | B12: 0.61440321 | D12: 0.034679264 | G12: S05 | H12: -0.318562 | I12: -0.49088177
A13: 6 | B13: 0.77195341 | D13: 0.040279797 | G13: S06 | H13: -0.51766325 | I13: -0.69330724
A14: 7 | B14: 3.2578334 | C14: High | D14: 0.29714048 | E14: High | G14: S07 | H14: 3.232077 | I14: 3.1527767 | J14: High
A15: 8 | B15: 0.13697445 | D15: 0.025481077 | G15: S08 | H15: -0.11946075 | I15: -0.086030825
A16: 9 | B16: 0.80122728 | D16: 0.041460645 | G16: S09 | H16: 0.54421009 | I16: 0.72367106
A17: 10 | B17: 1.7072517 | D17: 0.099736111 | G17: S10 | H17: -1.6127201 | I17: -1.7054346
A18: 11 | B18: 1.6398278 | D18: 0.093949624 | G18: S11 | H18: 1.2078809 | I18: 1.5333729
A19: 12 | B19: 0.71163647 | D19: 0.037985294 | G19: S12 | H19: -0.15264429 | I19: 0.11639465
A20: 13 | B20: 0.89264849 | D20: 0.045431316 | G20: S13 | H20: 0.477843 | I20: 0.72367106
A21: 14 | B21: 0.2979885 | D21: 0.02727685 | G21: S14 | H21: -0.18582783 | I21: -0.086030825
A22: 15 | B22: 4.6802146 | C22: High | D22: 0.58665149 | E22: High | G22: S15 | H22: 1.0751468 | I22: -0.69330724 | J22: High
A23: 16 | B23: 1.0585497 | D23: 0.053731472 | G23: S16 | H23: 0.31192529 | I23: -0.086030825
A24: 17 | B24: 0.74228408 | D24: 0.039127837 | G24: S17 | H24: 0.61057717 | I24: 0.72367106
A25: 18 | B25: 0.4719205 | D25: 0.030710486 | G25: S18 | H25: -0.25219492 | I25: -0.086030825
A26: 19 | B26: 1.3374103 | D26: 0.070863236 | G26: S19 | H26: -0.21901138 | I26: -0.69330724
A27: 20 | B27: 0.52150668 | D27: 0.03197357 | G27: S20 | H27: 0.477843 | I27: 0.52124559
A28: 21 | B28: 0.89668744 | D28: 0.045616625 | G28: S21 | H28: -0.81631513 | I28: -0.89573271
A29: 22 | B29: 1.6522151 | D29: 0.094995251 | G29: S22 | H29: -1.3472518 | I29: -0.89573271
A30: 23 | B30: 0.087739263 | D30: 0.025197389 | G30: S23 | H30: -0.086277209 | I30: -0.086030825
A31: 24 | B31: 0.69353982 | D31: 0.037333269 | G31: S24 | H31: -0.65039742 | I31: -0.69330724
A32: 25 | B32: 1.685846 | D32: 0.097873762 | G32: S25 | H32: -1.6790872 | I32: -1.5030091
A33: 26 | B33: 0.92237334 | D33: 0.046814681 | G33: S26 | H33: -0.74994805 | I33: -0.89573271
A34: 27 | B34: 0.65081496 | D34: 0.035860516 | G34: S27 | H34: -0.48447971 | I34: -0.2884563
... A37: 30 | B37: 0.64619239 | D37: 0.035706785 | G37: S30 | H37: -0.053093667 | I37: -0.2884563
A38: 31 | B38: 2.7343836 | C38: High | D38: 0.2167142 | E38: High | G38: S31 | H38: 2.7343239 | I38: 2.5455003 | J38: High
A39: 32 | B39: 0.56001663 | D39: 0.033041503 | G39: S32 | H39: -0.28537846 | I39: -0.086030825
A40: 33 | B40: 0.72066303 | D40: 0.0383168 | G40: S33 | H40: -0.7167645 | I40: -0.69330724
A41: 34 | B41: 0.82695546 | D41: 0.042534752 | G41: S34 | H41: 0.24555821 | I41: 0.52124559
A42: 35 | B42: 1.3191131 | D42: 0.069616909 | G42: S35 | H42: 0.51102655 | I42: 0.92609653
A43: 36 | B43: 1.7731997 | D43: 0.10562147 | G43: S36 | H43: -0.35174554 | I43: 0.31882012
A44: 37 | B44: 1.2367568 | D44: 0.064219674 | G44: S37 | H44: 0.37829238 | I44: -0.086030825
A45: 38 | B45: 0.95292204 | D45: 0.0482836 | G45: S38 | H45: 0.77649488 | I45: 0.92609653
A46: 39 | B46: 0.4719205 | D46: 0.030710486 | G46: S39 | H46: -0.25219492 | I46: -0.086030825
A47: 40 | B47: 0.74999187 | D47: 0.039422764 | G47: S40 | H47: -0.74994805 | I47: -0.69330724
A50: Cut-offs and counts
A51: Distance flag cut-off: mean distance + 1 standard deviation | F51: =AVERAGE(B8:B47) + _xlfn.STDEV.S(B8:B47) -> 1.966555
A52: Leverage flag cut-off: 2 (k + 1) / n, with k = 2 variables, n = 40 | F52: =2 * (2 + 1) / ROWS(B8:B47) -> 0.15
A53: Chi-square cut-off on the distance: SQRT(CHISQ.INV(0.975, 2)) | F53: =SQRT(_xlfn.CHISQ.INV(0.975, 2)) -> 2.716203
A54: Stores with a High distance flag | F54: =COUNTIF(C8:C47, "High") -> 3
A55: Stores with a High leverage flag | F55: =COUNTIF(E8:E47, "High") -> 3
A56: Stores with a High chi-square flag | F56: =COUNTIF(J8:J47, "High") -> 3
A57: Check: leverage = 1/n + distance^2 / (n - 1), largest difference | F57: {=MAX(ABS(D8:D47 - (1 / ROWS(B8:B47) + B8:B47^2 / (ROWS(B8:B47) - 1))))} -> 1.110223e-16
A60: The same picture: a 95% prediction ellipse (fx.RiskEllipseλ, XL Edge's Confidence Ellipse chart)
A61: =_xlfn.FORMULATEXT(A62) -> =fx.RiskEllipseλ(Data!$B$5:$B$44, Data!$C$5:$C$44, 0.95, , , Data!$B$4:$C$4)
A62: {=fx.RiskEllipseλ(Data!$B$5:$B$44, Data!$C$5:$C$44, 0.95, , , Data!$B$4:$C$4)} -> 95% prediction ellipse: Staff vs Floor area
A63: Point | B63: Floor area | C63: Staff | E63: Parameter | F63: Value
A64: 0 | B64: 19.825628 | C64: 31.268524 | E64: Center X | F64: 12.26
A65: 1 | B65: 19.673712 | C65: 31.323874 | E65: Center Y | F65: 18.425
A66: 2 | B66: 19.492538 | C66: 31.328318 | E66: Semi-major | F66: 14.906201
A67: 3 | B67: 19.28282 | C67: 31.281838 | E67: Semi-minor | F67: 2.5320191
A68: 4 | B68: 19.045386 | C68: 31.184618 | E68: Angle (degrees) | F68: 59.499292
A69: 5 | B69: 18.781174 | C69: 31.037042 | E69: Correlation | F69: 0.92848846
A70: 6 | B70: 18.491225 | C70: 30.839692 | E70: Radius | F70: 2.6128389
A71: 7 | B71: 18.176685 | C71: 30.593347
A72: 8 | B72: 17.838794 | C72: 30.298979
A73: 9 | B73: 17.478887 | C73: 29.95775
A74: 10 | B74: 17.098382 | C74: 29.571006
A75: 11 | B75: 16.698783 | C75: 29.140274
A76: 12 | B76: 16.281666 | C76: 28.667254
A77: 13 | B77: 15.848677 | C77: 28.153812
A78: 14 | B78: 15.401526 | C78: 27.601975
A79: 15 | B79: 14.941976 | C79: 27.013921
A80: 16 | B80: 14.471842 | C80: 26.39197
A81: 17 | B81: 13.992978 | C81: 25.738577
A82: 18 | B82: 13.507276 | C82: 25.056321
... A164: 100 | B164: 19.825628 | C164: 31.268524

Sheet 2 Regression
A1: 2. Do the unusual stores matter? Sales on floor area and staff - fx.RiskRegressResidsλ
A2: One row per store: fitted sales, the residual, the studentized residual (is the store off the line?), leverage
A3: (could it pull the line?) and Cook's distance (did it?). The Flag column names any rule a store breaks.
A5: =_xlfn.FORMULATEXT(A6) -> =fx.RiskRegressResidsλ(Data!$D$5:$D$44, Data!$B$5:$C$44, , HSTACK(Data!$D$4, Data!$B$4:$C$4))
A6: {=fx.RiskRegressResidsλ(Data!$D$5:$D$44, Data!$B$5:$C$44, , _xlfn.HSTACK(Data!$D$4, Data!$B$4:$C$4))} -> Regression residuals of Sales | N6: Chart lines
A7: Observation | B7: Actual | C7: Fitted | D7: Residual | E7: Standardized | F7: Studentized | G7: Leverage | H7: Cook's distance | I7: Flag | K7: ="Store" -> Store | N7: x | O7: 2 | P7: -2 | Q7: x | R7: y
A8: 1 | B8: 601 | C8: 622.21009 | D8: -21.210087 | E8: -0.44058267 | F8: -0.43573257 | G8: 0.030176657 | H8: 0.0020133165 | K8: {=Data!$A$5:$A$44} -> S01 | N8: 0 | O8: 2 | P8: -2 | Q8: =2 * 3 / 40 -> 0.15 | R8: -6
A9: 2 | B9: 830 | C9: 773.05208 | D9: 56.947917 | E9: 1.1972089 | F9: 1.2044796 | G9: 0.053156105 | H9: 0.026822139 | K9: S02 | N9: 0.7 | O9: 2 | P9: -2 | Q9: =2 * 3 / 40 -> 0.15 | R9: 4
A10: 3 | B10: 752 | C10: 769.88848 | D10: -17.888482 | E10: -0.37737791 | F10: -0.37296173 | G10: 0.059721201 | H10: 0.0030151129 | K10: S03
A11: 4 | B11: 550 | C11: 532.66374 | D11: 17.336257 | E11: 0.36654467 | F11: 0.36221568 | G11: 0.063906054 | H11: 0.0030574202 | K11: S04
A12: 5 | B12: 612 | C12: 569.93558 | D12: 42.064418 | E12: 0.87581093 | F12: 0.87299093 | G12: 0.034679264 | H12: 0.0091853923 | K12: S05
A13: 6 | B13: 494 | C13: 540.3999 | D13: -46.399902 | E13: -0.9688935 | F13: -0.96807038 | G13: 0.040279797 | H13: 0.013133288 | K13: S06
A14: 7 | B14: 1148 | C14: 1097.9446 | D14: 50.055446 | E14: 1.2213731 | F14: 1.2298014 | G14: 0.29714048 | H14: 0.21021745 | I14: Influential, Leverage | K14: S07
A15: 8 | B15: 575 | C15: 607.20742 | D15: -32.20742 | E15: -0.66740906 | F15: -0.66232712 | G15: 0.025481077 | H15: 0.003882312 | K15: S08
A16: 9 | B16: 734 | C16: 710.81712 | D16: 23.182876 | E16: 0.48438828 | F16: 0.47931986 | G16: 0.041460645 | H16: 0.0033829229 | K16: S09
A17: 10 | B17: 417 | C17: 381.82175 | D17: 35.178253 | E17: 0.75843898 | F17: 0.75400372 | G17: 0.099736111 | H17: 0.021242354 | K17: S10
A18: 11 | B18: 899 | C18: 814.42683 | D18: 84.573172 | E18: 1.8175557 | F18: 1.8786533 | G18: 0.093949624 | H18: 0.11418181 | I18: Influential | K18: S11
A19: 12 | B19: 566 | C19: 611.31033 | D19: -45.310327 | E19: -0.94501267 | F19: -0.94361204 | G19: 0.037985294 | H19: 0.011754057 | K19: S12
A20: 13 | B20: 701 | C20: 703.55062 | D20: -2.5506176 | E20: -0.053403909 | F20: -0.052679321 | G20: 0.045431316 | H20: 4.5245247e-05 | K20: S13
A21: 14 | B21: 628 | C21: 599.94091 | D21: 28.059086 | E21: 0.58198285 | F21: 0.57671007 | G21: 0.02727685 | H21: 0.0031659502 | K21: S14
A22: 15 | B22: 716 | C22: 714.79606 | D22: 1.2039407 | E22: 0.038307005 | F22: 0.037786546 | G22: 0.58665149 | H22: 0.00069422291 | I22: Leverage | K22: S15
A23: 16 | B23: 676 | C23: 654.43971 | D23: 21.560287 | E23: 0.45339699 | F23: 0.44847562 | G23: 0.053731472 | H23: 0.0038909025 | K23: S16
A24: 17 | B24: 711 | C24: 718.08363 | D24: -7.0836306 | E24: -0.14782721 | F24: -0.14585895 | G24: 0.039127837 | H24: 0.00029662501 | K24: S17
A25: 18 | B25: 608 | C25: 592.67441 | D25: 15.325593 | E25: 0.31843575 | F25: 0.31453438 | G25: 0.030710486 | H25: 0.0010709163 | K25: S18
A26: 19 | B26: 575 | C26: 573.09918 | D26: 1.9008181 | E26: 0.040339642 | F26: 0.039791652 | G26: 0.070863236 | H26: 4.1369869e-05 | K26: S19
A27: 20 | B27: 703 | C27: 695.81446 | D27: 7.185542 | E27: 0.14939884 | F27: 0.14741057 | G27: 0.03197357 | H27: 0.0002457407 | K27: S20
A28: 21 | B28: 476 | C28: 499.96446 | D28: -23.964463 | E28: -0.50180799 | F28: -0.49667334 | G28: 0.045616625 | H28: 0.0040119376 | K28: S21
A29: 22 | B29: 449 | C29: 441.83241 | D29: 7.1675888 | E29: 0.15412708 | F29: 0.15207884 | G29: 0.094995251 | H29: 0.00083116582 | K29: S22
A30: 23 | B30: 478 | C30: 610.84067 | D30: -132.84067 | E30: -2.7523523 | F30: -3.0443901 | G30: 0.025197389 | H30: 0.065271808 | I30: Outlier | K30: S23
A31: 24 | B31: 524 | C31: 525.86689 | D31: -1.8668894 | E31: -0.038923501 | F31: -0.038394691 | G31: 0.037333269 | H31: 1.9584956e-05 | K31: S24
A32: 25 | B32: 366 | C32: 382.2914 | D32: -16.2914 | E32: -0.35087792 | F32: -0.34668111 | G32: 0.097873762 | H32: 0.004452355 | K32: S25
A33: 26 | B33: 467 | C33: 507.23097 | D33: -40.23097 | E33: -0.84295254 | F33: -0.83958427 | G33: 0.046814681 | H33: 0.011632946 | K33: S26
A34: 27 | B34: 549 | C34: 559.50547 | D34: -10.505475 | E34: -0.21886537 | F34: -0.21602735 | G34: 0.035860516 | H34: 0.00059389477 | K34: S27
A35: 28 | B35: 495 | C35: 463.16228 | D35: 31.837722 | E35: 0.67055528 | F35: 0.6654877 | G35: 0.056640141 | H35: 0.0089990123 | K35: S28
A36: 29 | B36: 427 | C36: 437.7295 | D36: -10.729505 | E36: -0.2278487 | F36: -0.22490641 | G36: 0.072040863 | H36: 0.0013434512 | K36: S29
A37: 30 | B37: 570 | C37: 606.73777 | D37: -36.737767 | E37: -0.76531371 | F37: -0.76094767 | G37: 0.035706785 | H37: 0.007229352 | K37: S30
A38: 31 | B38: 868 | C38: 1020.2373 | D38: -152.23728 | E38: -3.5187804 | F38: -4.2551552 | G38: 0.2167142 | H38: 1.1419056 | I38: Outlier, Influential, Leverage | K38: S31
A39: 32 | B39: 611 | C39: 589.04115 | D39: 21.958846 | E39: 0.45681135 | F39: 0.451872 | G39: 0.033041503 | H39: 0.0023768648 | K39: S32
A40: 33 | B40: 582 | C40: 518.60038 | D40: 63.399617 | E40: 1.322519 | F40: 1.3364964 | G40: 0.0383168 | H40: 0.023229495 | K40: S33
A41: 34 | B41: 685 | C41: 670.38169 | D41: 14.618315 | E41: 0.30560967 | F41: 0.30183271 | G41: 0.042534752 | H41: 0.0013830371 | K41: S34
A42: 35 | B42: 718 | C42: 714.92003 | D42: 3.0799696 | E42: 0.065320096 | F42: 0.064435062 | G42: 0.069616909 | H42: 0.0001064205 | K42: S35
A43: 36 | B43: 562 | C43: 597.24697 | D43: -35.246967 | E43: -0.76241662 | F43: -0.75802104 | G43: 0.10562147 | H43: 0.022882016 | K43: S36
A44: 37 | B44: 711 | C44: 661.70622 | D44: 49.293781 | E44: 1.0424049 | F44: 1.0436611 | G44: 0.064219674 | H44: 0.024856837 | K44: S37
A45: 38 | B45: 839 | C45: 743.98606 | D45: 95.013943 | E45: 1.9923464 | F45: 2.0799753 | G45: 0.0482836 | H45: 0.067127513 | I45: Outlier | K45: S38
A46: 39 | B46: 574 | C46: 592.67441 | D46: -18.674407 | E46: -0.38801754 | F46: -0.38351924 | G46: 0.030710486 | H46: 0.0015900642 | K46: S39
A47: 40 | B47: 496 | C47: 514.96713 | D47: -18.96713 | E47: -0.39588291 | F47: -0.39132616 | G47: 0.039422764 | H47: 0.0021440112 | K47: S40

Sheet 3 With and without
A1: 3. How far does one store move the fit? LINEST with and without each unusual store
A2: LINEST returns the coefficients right to left: staff, floor area, then the intercept.
A3: Dropping a store is a test of its influence, not a fix - investigate it before excluding it.
A5: Fitted on | B5: Staff | C5: Floor area | D5: Intercept
A6: All 40 stores | B6: {=LINEST(Data!$D$5:$D$44, Data!$B$5:$C$44)} -> 7.7361596 | C6: 36.332533 | D6: 35.599409
A7: Without S07 | B7: {=LINEST(_xlfn._xlws.FILTER(Data!$D$5:$D$44, Data!$A$5:$A$44 <> "S07"), _xlfn._xlws.FILTER(Data!$B$5:$C$44, Data!$A$5:$A$44 <> "S07"))} -> 7.3292019 | C7: 34.993454 | D7: 57.734285
A8: Without S15 | B8: {=LINEST(_xlfn._xlws.FILTER(Data!$D$5:$D$44, Data!$A$5:$A$44 <> "S15"), _xlfn._xlws.FILTER(Data!$B$5:$C$44, Data!$A$5:$A$44 <> "S15"))} -> 7.921592 | C8: 36.023647 | D8: 35.896939
A9: Without S23 | B9: {=LINEST(_xlfn._xlws.FILTER(Data!$D$5:$D$44, Data!$A$5:$A$44 <> "S23"), _xlfn._xlws.FILTER(Data!$B$5:$C$44, Data!$A$5:$A$44 <> "S23"))} -> 7.7057791 | C9: 36.278735 | D9: 40.22559
A10: Without S31 | B10: {=LINEST(_xlfn._xlws.FILTER(Data!$D$5:$D$44, Data!$A$5:$A$44 <> "S31"), _xlfn._xlws.FILTER(Data!$B$5:$C$44, Data!$A$5:$A$44 <> "S31"))} -> 7.7852583 | C10: 40.779575 | D10: -14.967041
A12: The true relationship the data were simulated from: sales = 38 x floor area + 9 x staff + noise.
